BEGIN:VCALENDAR
VERSION:2.0
PRODID:-//Tukios.com/
BEGIN:VEVENT
UID:82181b26-81f0-4f96-b94a-08719f4a8df5@www.nsrfh.com
DTSTAMP:20260421T181943Z
DTSTART:20260429T220000Z
DTEND:20260430T000000Z
SUMMARY:Visitation
DESCRIPTION:
URL:https://www.nsrfh.com/obituaries/diane-milhomme
LOCATION: 918 7th St  Clay Center KS 67432
GEO:39.3790043;-97.1223334
END:VEVENT
END:VCALENDAR